Package: levi Version: 1.24.0 Command: /home/biocbuild/bbs-3.20-bioc/R/bin/R CMD check --install=check:levi.install-out.txt --library=/home/biocbuild/bbs-3.20-bioc/R/site-library --timings levi_1.24.0.tar.gz StartedAt: 2025-01-30 23:28:00 -0500 (Thu, 30 Jan 2025) EndedAt: 2025-01-30 23:31:24 -0500 (Thu, 30 Jan 2025) EllapsedTime: 204.3 seconds RetCode: 0 Status: OK CheckDir: levi.Rcheck Warnings: 0