Package: levi Version: 1.24.0 Command: rm -rf levi.buildbin-libdir && mkdir levi.buildbin-libdir && F:\biocbuild\bbs-3.20-bioc\R\bin\R.exe CMD INSTALL --build --library=levi.buildbin-libdir levi_1.24.0.tar.gz StartedAt: 2025-02-04 08:48:20 -0500 (Tue, 04 Feb 2025) EndedAt: 2025-02-04 08:48:46 -0500 (Tue, 04 Feb 2025) EllapsedTime: 26.5 seconds RetCode: 0 Status: OK PackageFile: levi_1.24.0.zip PackageFileSize: 2.553 MiB