Package: levi Version: 1.24.0 Command: chmod a+r levi -R && F:\biocbuild\bbs-3.20-bioc\R\bin\R.exe CMD build --keep-empty-dirs --no-resave-data levi StartedAt: 2025-02-03 20:02:14 -0500 (Mon, 03 Feb 2025) EndedAt: 2025-02-03 20:04:54 -0500 (Mon, 03 Feb 2025) EllapsedTime: 159.6 seconds RetCode: 0 Status: OK PackageFile: levi_1.24.0.tar.gz PackageFileSize: 2.677 MiB