Package: levi Version: 1.24.0 Command: F:\biocbuild\bbs-3.20-bioc\R\bin\R.exe CMD check --no-multiarch --install=check:levi.install-out.txt --library=F:\biocbuild\bbs-3.20-bioc\R\library --no-vignettes --timings levi_1.24.0.tar.gz StartedAt: 2025-01-31 03:22:17 -0500 (Fri, 31 Jan 2025) EndedAt: 2025-01-31 03:24:16 -0500 (Fri, 31 Jan 2025) EllapsedTime: 119.4 seconds RetCode: 0 Status: OK CheckDir: levi.Rcheck Warnings: 0