Package: levi Version: 1.24.0 Command: F:\biocbuild\bbs-3.20-bioc\R\bin\R.exe CMD INSTALL levi StartedAt: 2025-02-03 16:06:42 -0500 (Mon, 03 Feb 2025) EndedAt: 2025-02-03 16:07:05 -0500 (Mon, 03 Feb 2025) EllapsedTime: 22.8 seconds RetCode: 0 Status: OK