Package: limma Version: 3.62.2 Command: rm -rf limma.buildbin-libdir && mkdir limma.buildbin-libdir && /Users/biocbuild/BBS/utils/build-universal.sh limma_3.62.2.tar.gz /Library/Frameworks/R.framework/Resources/bin/R limma.buildbin-libdir StartedAt: 2025-02-12 15:39:19 -0500 (Wed, 12 Feb 2025) EndedAt: 2025-02-12 15:39:40 -0500 (Wed, 12 Feb 2025) EllapsedTime: 20.4 seconds RetCode: 0 Status: OK PackageFile: limma_3.62.2.tgz PackageFileSize: 2.952 MiB