Package: limma Version: 3.62.2 Command: /Library/Frameworks/R.framework/Resources/bin/R CMD check --install=check:limma.install-out.txt --library=/Library/Frameworks/R.framework/Resources/library --no-vignettes --timings limma_3.62.2.tar.gz StartedAt: 2025-02-11 23:33:32 -0500 (Tue, 11 Feb 2025) EndedAt: 2025-02-11 23:35:05 -0500 (Tue, 11 Feb 2025) EllapsedTime: 92.3 seconds RetCode: 0 Status: OK CheckDir: limma.Rcheck Warnings: 0