Package: limma Version: 3.62.2 Command: /Library/Frameworks/R.framework/Resources/bin/R CMD INSTALL limma StartedAt: 2025-02-10 15:11:47 -0500 (Mon, 10 Feb 2025) EndedAt: 2025-02-10 15:12:08 -0500 (Mon, 10 Feb 2025) EllapsedTime: 21.1 seconds RetCode: 0 Status: OK