Package: limma Version: 3.62.2 Command: /Library/Frameworks/R.framework/Resources/bin/R CMD build --keep-empty-dirs --no-resave-data limma StartedAt: 2025-02-03 19:55:49 -0500 (Mon, 03 Feb 2025) EndedAt: 2025-02-03 19:56:50 -0500 (Mon, 03 Feb 2025) EllapsedTime: 60.5 seconds RetCode: 0 Status: OK PackageFile: limma_3.62.2.tar.gz PackageFileSize: 2.685 MiB