Package: limma Version: 3.62.2 Command: /home/biocbuild/bbs-3.20-bioc/R/bin/R CMD build --keep-empty-dirs --no-resave-data --md5 limma StartedAt: 2025-02-03 17:59:38 -0500 (Mon, 03 Feb 2025) EndedAt: 2025-02-03 18:00:01 -0500 (Mon, 03 Feb 2025) EllapsedTime: 23.1 seconds RetCode: 0 Status: OK PackageFile: limma_3.62.2.tar.gz PackageFileSize: 2.693 MiB