Package: limma Version: 3.62.2 Command: rm -rf limma.buildbin-libdir && mkdir limma.buildbin-libdir && F:\biocbuild\bbs-3.20-bioc\R\bin\R.exe CMD INSTALL --build --library=limma.buildbin-libdir limma_3.62.2.tar.gz StartedAt: 2025-02-04 08:48:24 -0500 (Tue, 04 Feb 2025) EndedAt: 2025-02-04 08:49:56 -0500 (Tue, 04 Feb 2025) EllapsedTime: 92.2 seconds RetCode: 0 Status: OK PackageFile: limma_3.62.2.zip PackageFileSize: 2.996 MiB