Package: limma Version: 3.62.2 Command: chmod a+r limma -R && F:\biocbuild\bbs-3.20-bioc\R\bin\R.exe CMD build --keep-empty-dirs --no-resave-data limma StartedAt: 2025-02-03 20:02:25 -0500 (Mon, 03 Feb 2025) EndedAt: 2025-02-03 20:03:45 -0500 (Mon, 03 Feb 2025) EllapsedTime: 80.3 seconds RetCode: 0 Status: OK PackageFile: limma_3.62.2.tar.gz PackageFileSize: 2.689 MiB