Package: limma Version: 3.62.2 Command: F:\biocbuild\bbs-3.20-bioc\R\bin\R.exe CMD check --no-multiarch --install=check:limma.install-out.txt --library=F:\biocbuild\bbs-3.20-bioc\R\library --no-vignettes --timings limma_3.62.2.tar.gz StartedAt: 2025-02-04 03:11:37 -0500 (Tue, 04 Feb 2025) EndedAt: 2025-02-04 03:13:48 -0500 (Tue, 04 Feb 2025) EllapsedTime: 130.8 seconds RetCode: 0 Status: OK CheckDir: limma.Rcheck Warnings: 0