Package: limma Version: 3.62.2 Command: /home/biocbuild/R/R/bin/R CMD INSTALL limma StartedAt: 2025-02-03 20:25:16 -0000 (Mon, 03 Feb 2025) EndedAt: 2025-02-03 20:25:47 -0000 (Mon, 03 Feb 2025) EllapsedTime: 30.9 seconds RetCode: 0 Status: OK