Package: limmaGUI Version: 1.82.0 Command: /Library/Frameworks/R.framework/Resources/bin/R CMD INSTALL limmaGUI StartedAt: 2025-02-03 15:18:15 -0500 (Mon, 03 Feb 2025) EndedAt: 2025-02-03 15:18:36 -0500 (Mon, 03 Feb 2025) EllapsedTime: 20.6 seconds RetCode: 0 Status: OK