Package: limmaGUI Version: 1.82.0 Command: rm -rf limmaGUI.buildbin-libdir && mkdir limmaGUI.buildbin-libdir && /Users/biocbuild/BBS/utils/build-universal.sh limmaGUI_1.82.0.tar.gz /Library/Frameworks/R.framework/Resources/bin/R limmaGUI.buildbin-libdir StartedAt: 2025-02-11 13:37:09 -0500 (Tue, 11 Feb 2025) EndedAt: 2025-02-11 13:38:20 -0500 (Tue, 11 Feb 2025) EllapsedTime: 70.8 seconds RetCode: 0 Status: OK PackageFile: limmaGUI_1.82.0.tgz PackageFileSize: 5.965 MiB