Package: limmaGUI Version: 1.82.0 Command: /home/biocbuild/bbs-3.20-bioc/R/bin/R CMD check --install=check:limmaGUI.install-out.txt --library=/home/biocbuild/bbs-3.20-bioc/R/site-library --timings limmaGUI_1.82.0.tar.gz StartedAt: 2025-01-30 23:28:12 -0500 (Thu, 30 Jan 2025) EndedAt: 2025-01-30 23:29:04 -0500 (Thu, 30 Jan 2025) EllapsedTime: 52.1 seconds RetCode: 0 Status: OK CheckDir: limmaGUI.Rcheck Warnings: 0