Package: limmaGUI Version: 1.82.0 Command: /home/biocbuild/R/R/bin/R CMD build --keep-empty-dirs --no-resave-data limmaGUI StartedAt: 2025-01-31 00:33:19 -0000 (Fri, 31 Jan 2025) EndedAt: 2025-01-31 00:33:46 -0000 (Fri, 31 Jan 2025) EllapsedTime: 27.0 seconds RetCode: 0 Status: OK PackageFile: limmaGUI_1.82.0.tar.gz PackageFileSize: 5.34 MiB