Package: limpca Version: 1.2.0 Command: /Library/Frameworks/R.framework/Resources/bin/R CMD build --keep-empty-dirs --no-resave-data limpca StartedAt: 2025-02-04 02:16:56 -0500 (Tue, 04 Feb 2025) EndedAt: 2025-02-04 02:19:23 -0500 (Tue, 04 Feb 2025) EllapsedTime: 147.3 seconds RetCode: 0 Status: OK PackageFile: limpca_1.2.0.tar.gz PackageFileSize: 5.167 MiB