Package: limpca Version: 1.2.0 Command: /Library/Frameworks/R.framework/Resources/bin/R CMD build --keep-empty-dirs --no-resave-data limpca StartedAt: 2025-02-03 19:56:10 -0500 (Mon, 03 Feb 2025) EndedAt: 2025-02-03 20:00:22 -0500 (Mon, 03 Feb 2025) EllapsedTime: 252.1 seconds RetCode: 0 Status: OK PackageFile: limpca_1.2.0.tar.gz PackageFileSize: 5.167 MiB