Package: limpca Version: 1.2.0 Command: /Library/Frameworks/R.framework/Resources/bin/R CMD check --install=check:limpca.install-out.txt --library=/Library/Frameworks/R.framework/Resources/library --no-vignettes --timings limpca_1.2.0.tar.gz StartedAt: 2025-02-04 05:36:48 -0500 (Tue, 04 Feb 2025) EndedAt: 2025-02-04 05:44:16 -0500 (Tue, 04 Feb 2025) EllapsedTime: 447.7 seconds RetCode: 0 Status: OK CheckDir: limpca.Rcheck Warnings: 0