Package: limpca Version: 1.2.0 Command: rm -rf limpca.buildbin-libdir && mkdir limpca.buildbin-libdir && F:\biocbuild\bbs-3.20-bioc\R\bin\R.exe CMD INSTALL --build --library=limpca.buildbin-libdir limpca_1.2.0.tar.gz StartedAt: 2025-01-31 08:56:16 -0500 (Fri, 31 Jan 2025) EndedAt: 2025-01-31 08:57:00 -0500 (Fri, 31 Jan 2025) EllapsedTime: 44.2 seconds RetCode: 0 Status: OK PackageFile: limpca_1.2.0.zip PackageFileSize: 2.194 MiB