Package: limpca Version: 1.2.0 Command: chmod a+r limpca -R && F:\biocbuild\bbs-3.20-bioc\R\bin\R.exe CMD build --keep-empty-dirs --no-resave-data limpca StartedAt: 2025-01-30 19:48:09 -0500 (Thu, 30 Jan 2025) EndedAt: 2025-01-30 19:52:00 -0500 (Thu, 30 Jan 2025) EllapsedTime: 231.3 seconds RetCode: 0 Status: OK PackageFile: limpca_1.2.0.tar.gz PackageFileSize: 2.304 MiB