Package: limpca Version: 1.2.0 Command: /home/biocbuild/R/R/bin/R CMD build --keep-empty-dirs --no-resave-data limpca StartedAt: 2025-01-31 00:33:25 -0000 (Fri, 31 Jan 2025) EndedAt: 2025-01-31 00:35:57 -0000 (Fri, 31 Jan 2025) EllapsedTime: 152.1 seconds RetCode: 0 Status: OK PackageFile: limpca_1.2.0.tar.gz PackageFileSize: 3.066 MiB