Package: lionessR Version: 1.20.0 Command: /Library/Frameworks/R.framework/Resources/bin/R CMD INSTALL lionessR StartedAt: 2025-02-03 15:32:56 -0500 (Mon, 03 Feb 2025) EndedAt: 2025-02-03 15:32:58 -0500 (Mon, 03 Feb 2025) EllapsedTime: 2.0 seconds RetCode: 0 Status: OK