Package: lionessR Version: 1.20.0 Command: /Library/Frameworks/R.framework/Resources/bin/R CMD build --keep-empty-dirs --no-resave-data lionessR StartedAt: 2025-02-03 19:56:40 -0500 (Mon, 03 Feb 2025) EndedAt: 2025-02-03 19:57:16 -0500 (Mon, 03 Feb 2025) EllapsedTime: 35.7 seconds RetCode: 0 Status: OK PackageFile: lionessR_1.20.0.tar.gz PackageFileSize: 2.85 MiB