Package: lionessR Version: 1.20.0 Command: rm -rf lionessR.buildbin-libdir && mkdir lionessR.buildbin-libdir && F:\biocbuild\bbs-3.20-bioc\R\bin\R.exe CMD INSTALL --build --library=lionessR.buildbin-libdir lionessR_1.20.0.tar.gz StartedAt: 2025-02-04 08:48:46 -0500 (Tue, 04 Feb 2025) EndedAt: 2025-02-04 08:48:54 -0500 (Tue, 04 Feb 2025) EllapsedTime: 8.4 seconds RetCode: 0 Status: OK PackageFile: lionessR_1.20.0.zip PackageFileSize: 3.357 MiB