Package: lionessR Version: 1.20.0 Command: /home/biocbuild/R/R/bin/R CMD build --keep-empty-dirs --no-resave-data lionessR StartedAt: 2025-02-04 00:34:44 -0000 (Tue, 04 Feb 2025) EndedAt: 2025-02-04 00:35:38 -0000 (Tue, 04 Feb 2025) EllapsedTime: 54.0 seconds RetCode: 0 Status: OK PackageFile: lionessR_1.20.0.tar.gz PackageFileSize: 2.772 MiB