Package: lionessR Version: 1.20.0 Command: /home/biocbuild/R/R/bin/R CMD check --install=check:lionessR.install-out.txt --library=/home/biocbuild/R/R/site-library --no-vignettes --timings lionessR_1.20.0.tar.gz StartedAt: 2025-02-04 08:20:05 -0000 (Tue, 04 Feb 2025) EndedAt: 2025-02-04 08:20:36 -0000 (Tue, 04 Feb 2025) EllapsedTime: 31.1 seconds RetCode: 0 Status: OK CheckDir: lionessR.Rcheck Warnings: 0