Package: lionessR Version: 1.20.0 Command: /home/biocbuild/R/R/bin/R CMD INSTALL lionessR StartedAt: 2025-02-03 20:34:24 -0000 (Mon, 03 Feb 2025) EndedAt: 2025-02-03 20:34:35 -0000 (Mon, 03 Feb 2025) EllapsedTime: 10.4 seconds RetCode: 0 Status: OK