Package: lipidr Version: 2.20.0 Command: /Library/Frameworks/R.framework/Resources/bin/R CMD build --keep-empty-dirs --no-resave-data lipidr StartedAt: 2025-02-03 19:56:49 -0500 (Mon, 03 Feb 2025) EndedAt: 2025-02-03 19:58:37 -0500 (Mon, 03 Feb 2025) EllapsedTime: 107.8 seconds RetCode: 0 Status: OK PackageFile: lipidr_2.20.0.tar.gz PackageFileSize: 3.392 MiB