Package: lipidr Version: 2.20.0 Command: rm -rf lipidr.buildbin-libdir && mkdir lipidr.buildbin-libdir && F:\biocbuild\bbs-3.20-bioc\R\bin\R.exe CMD INSTALL --build --library=lipidr.buildbin-libdir lipidr_2.20.0.tar.gz StartedAt: 2025-02-11 08:45:40 -0500 (Tue, 11 Feb 2025) EndedAt: 2025-02-11 08:46:35 -0500 (Tue, 11 Feb 2025) EllapsedTime: 55.3 seconds RetCode: 0 Status: OK PackageFile: lipidr_2.20.0.zip PackageFileSize: 2.565 MiB