Package: lipidr Version: 2.20.0 Command: F:\biocbuild\bbs-3.20-bioc\R\bin\R.exe CMD check --no-multiarch --install=check:lipidr.install-out.txt --library=F:\biocbuild\bbs-3.20-bioc\R\library --no-vignettes --timings lipidr_2.20.0.tar.gz StartedAt: 2025-02-11 03:06:28 -0500 (Tue, 11 Feb 2025) EndedAt: 2025-02-11 03:14:33 -0500 (Tue, 11 Feb 2025) EllapsedTime: 485.2 seconds RetCode: 0 Status: OK CheckDir: lipidr.Rcheck Warnings: 0