Package: lisaClust Version: 1.14.4 Command: /Library/Frameworks/R.framework/Resources/bin/R CMD INSTALL lisaClust StartedAt: 2025-02-10 18:22:19 -0500 (Mon, 10 Feb 2025) EndedAt: 2025-02-10 18:22:52 -0500 (Mon, 10 Feb 2025) EllapsedTime: 32.3 seconds RetCode: 0 Status: OK