Package: lisaClust Version: 1.14.4 Command: /Library/Frameworks/R.framework/Resources/bin/R CMD INSTALL lisaClust StartedAt: 2024-11-19 15:46:57 -0500 (Tue, 19 Nov 2024) EndedAt: 2024-11-19 15:47:35 -0500 (Tue, 19 Nov 2024) EllapsedTime: 37.6 seconds RetCode: 0 Status: OK