Package: lisaClust Version: 1.14.4 Command: /Library/Frameworks/R.framework/Resources/bin/R CMD check --install=check:lisaClust.install-out.txt --library=/Library/Frameworks/R.framework/Resources/library --no-vignettes --timings lisaClust_1.14.4.tar.gz StartedAt: 2025-02-11 05:23:41 -0500 (Tue, 11 Feb 2025) EndedAt: 2025-02-11 05:53:03 -0500 (Tue, 11 Feb 2025) EllapsedTime: 1762.2 seconds RetCode: 0 Status: OK CheckDir: lisaClust.Rcheck Warnings: 0