Package: lisaClust Version: 1.14.4 Command: /Library/Frameworks/R.framework/Resources/bin/R CMD INSTALL lisaClust StartedAt: 2025-02-03 16:49:18 -0500 (Mon, 03 Feb 2025) EndedAt: 2025-02-03 16:50:16 -0500 (Mon, 03 Feb 2025) EllapsedTime: 58.4 seconds RetCode: 0 Status: OK