Package: lisaClust Version: 1.14.4 Command: chmod a+r lisaClust -R && F:\biocbuild\bbs-3.20-bioc\R\bin\R.exe CMD build --keep-empty-dirs --no-resave-data lisaClust StartedAt: 2025-02-03 20:03:34 -0500 (Mon, 03 Feb 2025) EndedAt: 2025-02-03 20:09:05 -0500 (Mon, 03 Feb 2025) EllapsedTime: 331.1 seconds RetCode: 0 Status: OK PackageFile: lisaClust_1.14.4.tar.gz PackageFileSize: 861.5 KiB