Package: lisaClust Version: 1.14.4 Command: F:\biocbuild\bbs-3.20-bioc\R\bin\R.exe CMD INSTALL lisaClust StartedAt: 2025-02-10 17:05:18 -0500 (Mon, 10 Feb 2025) EndedAt: 2025-02-10 17:05:54 -0500 (Mon, 10 Feb 2025) EllapsedTime: 36.2 seconds RetCode: 0 Status: OK