Package: lpNet Version: 2.38.0 Command: chmod a+r lpNet -R && F:\biocbuild\bbs-3.20-bioc\R\bin\R.exe CMD build --keep-empty-dirs --no-resave-data lpNet StartedAt: 2025-02-10 19:58:04 -0500 (Mon, 10 Feb 2025) EndedAt: 2025-02-10 19:59:03 -0500 (Mon, 10 Feb 2025) EllapsedTime: 59.5 seconds RetCode: 0 Status: OK PackageFile: lpNet_2.38.0.tar.gz PackageFileSize: 218.9 KiB