Package: lpNet Version: 2.38.0 Command: /home/biocbuild/R/R/bin/R CMD check --install=check:lpNet.install-out.txt --library=/home/biocbuild/R/R/site-library --no-vignettes --timings lpNet_2.38.0.tar.gz StartedAt: 2025-02-11 07:36:57 -0000 (Tue, 11 Feb 2025) EndedAt: 2025-02-11 07:37:34 -0000 (Tue, 11 Feb 2025) EllapsedTime: 37.1 seconds RetCode: 0 Status: WARNINGS CheckDir: lpNet.Rcheck Warnings: 1