Package: lpNet Version: 2.38.0 Command: /home/biocbuild/R/R/bin/R CMD INSTALL lpNet StartedAt: 2025-02-10 20:14:15 -0000 (Mon, 10 Feb 2025) EndedAt: 2025-02-10 20:14:33 -0000 (Mon, 10 Feb 2025) EllapsedTime: 17.9 seconds RetCode: 0 Status: OK