Package: lumi Version: 2.58.0 Command: rm -rf lumi.buildbin-libdir && mkdir lumi.buildbin-libdir && /Users/biocbuild/BBS/utils/build-universal.sh lumi_2.58.0.tar.gz /Library/Frameworks/R.framework/Resources/bin/R lumi.buildbin-libdir StartedAt: 2025-02-12 15:40:40 -0500 (Wed, 12 Feb 2025) EndedAt: 2025-02-12 15:41:49 -0500 (Wed, 12 Feb 2025) EllapsedTime: 69.2 seconds RetCode: 0 Status: OK PackageFile: lumi_2.58.0.tgz PackageFileSize: 4.726 MiB