Package: lumi Version: 2.58.0 Command: /Library/Frameworks/R.framework/Resources/bin/R CMD INSTALL lumi StartedAt: 2025-02-03 18:00:21 -0500 (Mon, 03 Feb 2025) EndedAt: 2025-02-03 18:01:25 -0500 (Mon, 03 Feb 2025) EllapsedTime: 64.3 seconds RetCode: 0 Status: OK