Package: lumi Version: 2.58.0 Command: /Library/Frameworks/R.framework/Resources/bin/R CMD INSTALL lumi StartedAt: 2025-02-03 16:45:23 -0500 (Mon, 03 Feb 2025) EndedAt: 2025-02-03 16:47:24 -0500 (Mon, 03 Feb 2025) EllapsedTime: 120.9 seconds RetCode: 0 Status: OK