Package: lumi Version: 2.58.0 Command: /home/biocbuild/bbs-3.20-bioc/R/bin/R CMD build --keep-empty-dirs --no-resave-data --md5 lumi StartedAt: 2025-02-03 18:00:56 -0500 (Mon, 03 Feb 2025) EndedAt: 2025-02-03 18:00:58 -0500 (Mon, 03 Feb 2025) EllapsedTime: 2.0 seconds RetCode: 0 Status: OK PackageFile: lumi_2.58.0.tar.gz PackageFileSize: 8.036 MiB