Package: lumi Version: 2.58.0 Command: /home/biocbuild/bbs-3.20-bioc/R/bin/R CMD INSTALL lumi StartedAt: 2025-02-03 16:06:55 -0500 (Mon, 03 Feb 2025) EndedAt: 2025-02-03 16:08:00 -0500 (Mon, 03 Feb 2025) EllapsedTime: 65.3 seconds RetCode: 0 Status: OK