Package: lumi Version: 2.58.0 Command: rm -rf lumi.buildbin-libdir && mkdir lumi.buildbin-libdir && F:\biocbuild\bbs-3.20-bioc\R\bin\R.exe CMD INSTALL --build --library=lumi.buildbin-libdir lumi_2.58.0.tar.gz StartedAt: 2025-02-04 08:49:31 -0500 (Tue, 04 Feb 2025) EndedAt: 2025-02-04 08:51:16 -0500 (Tue, 04 Feb 2025) EllapsedTime: 104.3 seconds RetCode: 0 Status: OK PackageFile: lumi_2.58.0.zip PackageFileSize: 4.731 MiB