Package: lumi Version: 2.58.0 Command: chmod a+r lumi -R && F:\biocbuild\bbs-3.20-bioc\R\bin\R.exe CMD build --keep-empty-dirs --no-resave-data lumi StartedAt: 2025-02-10 19:58:24 -0500 (Mon, 10 Feb 2025) EndedAt: 2025-02-10 19:58:33 -0500 (Mon, 10 Feb 2025) EllapsedTime: 8.4 seconds RetCode: 0 Status: OK PackageFile: lumi_2.58.0.tar.gz PackageFileSize: 8.033 MiB