Package: m6Aboost Version: 1.12.0 Command: rm -rf m6Aboost.buildbin-libdir && mkdir m6Aboost.buildbin-libdir && /Users/biocbuild/BBS/utils/build-universal.sh m6Aboost_1.12.0.tar.gz /Library/Frameworks/R.framework/Resources/bin/R m6Aboost.buildbin-libdir StartedAt: 2025-02-12 15:41:15 -0500 (Wed, 12 Feb 2025) EndedAt: 2025-02-12 15:42:12 -0500 (Wed, 12 Feb 2025) EllapsedTime: 56.4 seconds RetCode: 0 Status: OK PackageFile: m6Aboost_1.12.0.tgz PackageFileSize: 574.3 KiB